BEGIN:VCALENDAR
VERSION:2.0
PRODID:EVENTFROG//EVENT//ICAL
BEGIN:VEVENT
UID:20260424T213104Z-7453055977861953782@eventfrog.ch
DTSTAMP:20260424T213104Z
DTSTART:20260530T173000Z
DTEND:20260530T190000Z
SUMMARY:Musical "Änet dä Möirä"
DESCRIPTION:Das Musical «Änet dä Möirä» der IOS Engelberg lässt uns erkennen, dass der künstlichen Intelligenz ohne die Kraft der Erde die Energie ausgeht.\n\nhttps://eventfrog.ch/de/p/musicals-shows/musical/musical-aenet-dae-moeirae-7453055977861953782.html
LOCATION:IOS
GEO:46.819832;8.411841
URL:https://eventfrog.ch/de/p/musicals-shows/musical/musical-aenet-dae-moeirae-7453055977861953782.html
END:VEVENT
END:VCALENDAR