BEGIN:VCALENDAR
VERSION:2.0
PRODID:EVENTFROG//EVENT//ICAL
BEGIN:VEVENT
UID:20260424T220039Z-7453056570810731279@eventfrog.ch
DTSTAMP:20260424T220039Z
DTSTART:20260621T180000Z
SUMMARY:Lisa Feller
DESCRIPTION:Lisa Feller\n\nhttps://eventfrog.ch/de/p/theater-buehne/lisa-feller-7453056570810731279.html
LOCATION:Casinotheater
GEO:47.499716;8.726641
URL:https://eventfrog.ch/de/p/theater-buehne/lisa-feller-7453056570810731279.html
END:VEVENT
END:VCALENDAR