BEGIN:VCALENDAR
VERSION:2.0
PRODID:EVENTFROG//EVENT//ICAL
BEGIN:VEVENT
UID:20260424T140836Z-7453071796281045252@eventfrog.ch
DTSTAMP:20260424T140836Z
DTSTART:20260926T110000Z
DTEND:20260926T143000Z
SUMMARY:Beauty Jungle Mädchenflohmarkt Ingolstadt
DESCRIPTION:Nachhaltiger Mädchenflohmarkt am 26.09.2026 im Kulturzentrum neun mit Curvy-Mode, Accessoires und Vintage-Styles von 13 bis 16.30 Uhr.\n\nhttps://eventfrog.ch/de/p/maerkte/flohmarkt/beauty-jungle-maedchenflohmarkt-ingolstadt-7453071796281045252.html
LOCATION:Kulturzentrum neun
GEO:48.740928;11.438091
URL:https://eventfrog.ch/de/p/maerkte/flohmarkt/beauty-jungle-maedchenflohmarkt-ingolstadt-7453071796281045252.html
END:VEVENT
END:VCALENDAR