BEGIN:VCALENDAR
VERSION:2.0
PRODID:EVENTFROG//EVENT//ICAL
BEGIN:VEVENT
UID:20260426T033658Z-7453077985702247692@eventfrog.ch
DTSTAMP:20260426T033658Z
DTSTART:20260522T210000Z
DTEND:20260523T030000Z
SUMMARY:Sanctuary w/ Caiiro
DESCRIPTION:Sanctuary: Wo die Seele atmet.\n\nhttps://eventfrog.ch/de/p/partys/house-techno/sanctuary-w-caiiro-7453077985702247692.html
LOCATION:Kaufleuten Club
GEO:47.371008;8.535925
URL:https://eventfrog.ch/de/p/partys/house-techno/sanctuary-w-caiiro-7453077985702247692.html
END:VEVENT
END:VCALENDAR