BEGIN:VCALENDAR
VERSION:2.0
PRODID:EVENTFROG//EVENT//ICAL
BEGIN:VEVENT
UID:20260424T072134Z-7453087798842668112@eventfrog.ch
DTSTAMP:20260424T072134Z
DTSTART:20260430T150000Z
DTEND:20260430T200000Z
SUMMARY:60+ Musik zum Tanzen & Mitsingen
DESCRIPTION:Die 60+ Party im Alpenchique "Casablanca" in St. Gallen bietet Hits aus den 60er- bis 80er-Jahren zum Tanzen und Feiern von 17 bis 22 Uhr.\n\nhttps://eventfrog.ch/de/p/partys/70-s/60-musik-zum-tanzen-mitsingen-7453087798842668112.html
LOCATION:Alpenchique Club
GEO:47.427691;9.374651
URL:https://eventfrog.ch/de/p/partys/70-s/60-musik-zum-tanzen-mitsingen-7453087798842668112.html
END:VEVENT
END:VCALENDAR