BEGIN:VCALENDAR
VERSION:2.0
PRODID:EVENTFROG//EVENT//ICAL
BEGIN:VEVENT
UID:20260424T073655Z-7453098484612250370@eventfrog.ch
DTSTAMP:20260424T073655Z
DTSTART:20260531T120000Z
DTEND:20260531T150000Z
SUMMARY:Atelier Espresso et Latte art
DESCRIPTION:Apprenez l'extraction du café et le latte art lors d'un atelier convivial animé par des baristas certifiés SCA.\n\nhttps://eventfrog.ch/fr/p/cours-seminaires/autres-cours-seminaires/atelier-espresso-et-latte-art-7453098484612250370.html
LOCATION:Madeleine - Café, Livres & Co
GEO:46.522322;6.632852
URL:https://eventfrog.ch/fr/p/cours-seminaires/autres-cours-seminaires/atelier-espresso-et-latte-art-7453098484612250370.html
END:VEVENT
END:VCALENDAR