BEGIN:VCALENDAR
VERSION:2.0
PRODID:EVENTFROG//EVENT//ICAL
BEGIN:VEVENT
UID:20260426T034216Z-7453103235148027155@eventfrog.ch
DTSTAMP:20260426T034216Z
DTSTART:20260515T210000Z
DTEND:20260516T030000Z
SUMMARY:Kaufhouse
DESCRIPTION:Get on up and dance to the Music!\n\nhttps://eventfrog.ch/de/p/partys/house-techno/kaufhouse-7453103235148027155.html
LOCATION:Kaufleuten Club
GEO:47.371008;8.535925
URL:https://eventfrog.ch/de/p/partys/house-techno/kaufhouse-7453103235148027155.html
END:VEVENT
END:VCALENDAR