BEGIN:VCALENDAR
VERSION:2.0
PRODID:EVENTFROG//EVENT//ICAL
BEGIN:VEVENT
UID:20260424T075625Z-7453158537574809356@eventfrog.ch
DTSTAMP:20260424T075625Z
DTSTART:20260524T210000Z
DTEND:20260525T030000Z
SUMMARY:CORITO SALSERO GENÈVE (By Noche Colombiana)
DESCRIPTION:Noche Colombiana Genève ofrece una fiesta de salsa con DJs David Jaramillo y Maes en Safiro Genève, dress code blanco y negro.\n\nhttps://eventfrog.ch/de/p/partys/latin-brasil/corito-salsero-geneve-by-noche-colombiana-7453158537574809356.html
LOCATION:Safiro Club
GEO:46.200380;6.131471
URL:https://eventfrog.ch/de/p/partys/latin-brasil/corito-salsero-geneve-by-noche-colombiana-7453158537574809356.html
END:VEVENT
END:VCALENDAR