BEGIN:VCALENDAR
VERSION:2.0
PRODID:EVENTFROG//EVENT//ICAL
BEGIN:VEVENT
UID:20260424T094232Z-7453187949653446117@eventfrog.ch
DTSTAMP:20260424T094232Z
DTSTART:20260501T183000Z
SUMMARY:SYX Trio
DESCRIPTION:Le trio SYX explore un jazz contemporain inédit mêlant piano, violoncelle et saxophone avec une complicité et une créativité vibrantes.\n\nhttps://eventfrog.ch/fr/p/concerts/jazz-blues/syx-trio-7453187949653446117.html
LOCATION:Eglise du Sacré-Coeur de Lausanne-Ouchy
GEO:46.510338;6.630749
URL:https://eventfrog.ch/fr/p/concerts/jazz-blues/syx-trio-7453187949653446117.html
END:VEVENT
END:VCALENDAR