BEGIN:VCALENDAR
VERSION:2.0
PRODID:EVENTFROG//EVENT//ICAL
BEGIN:VEVENT
UID:20260424T072135Z-7453192394751662887@eventfrog.ch
DTSTAMP:20260424T072135Z
DTSTART:20260424T180000Z
SUMMARY:Vergänglichkeit im Buddhismus - Bea Amar und Meike Pereira
DESCRIPTION:Bea Amar und Meike Martins Pereira erklären aus buddhistischer Sicht, was bedingt und vergänglich, und was zeitlos ist: die Natur des Geistes. Kurze angeleitete Meditation im Anschluss.\n\nhttps://eventfrog.ch/de/p/fuehrungen-vortraege/vortrag/vergaenglichkeit-im-buddhismus-bea-amar-und-meike-pereira-7453192394751662887.html
LOCATION:Buddhistisches Zentrum Bremen
GEO:53.084831;8.826065
URL:https://eventfrog.ch/de/p/fuehrungen-vortraege/vortrag/vergaenglichkeit-im-buddhismus-bea-amar-und-meike-pereira-7453192394751662887.html
END:VEVENT
END:VCALENDAR