BEGIN:VCALENDAR
VERSION:2.0
PRODID:EVENTFROG//EVENT//ICAL
BEGIN:VEVENT
UID:20260424T075645Z-7453201064096971237@eventfrog.ch
DTSTAMP:20260424T075645Z
DTSTART:20260429T120000Z
DTEND:20260429T130000Z
SUMMARY:Offenes Singen mit Organist Haubrich
DESCRIPTION:Offenes Singen mit Organist Haubrich\n\nhttps://eventfrog.ch/de/p/konzerte/offenes-singen-mit-organist-haubrich-7453201064096971237.html
LOCATION:Schulmuseum Thurgau
GEO:47.544366;9.273775
URL:https://eventfrog.ch/de/p/konzerte/offenes-singen-mit-organist-haubrich-7453201064096971237.html
END:VEVENT
END:VCALENDAR