BEGIN:VCALENDAR
VERSION:2.0
PRODID:EVENTFROG//EVENT//ICAL
BEGIN:VEVENT
UID:20260426T013921Z-7453335954226463649@eventfrog.ch
DTSTAMP:20260426T013921Z
DTSTART:20260620T140000Z
DTEND:20260620T153000Z
SUMMARY:MODESCHAU ATELIER SCHNITTPUNKT
DESCRIPTION:Das Atelier Schnittpunkt OW/NW präsentiert in Zusammenarbeit mit der Stiftung Weidli Stans neue Kreationen und blühende Designs. Erster Anlass im Neubau der Stiftung Weidli. Eintritt frei, Kollekte.\n\nhttps://eventfrog.ch/de/p/diverses/modeschau-atelier-schnittpunkt-7453335954226463649.html
LOCATION:Stiftung Weidli
GEO:46.962649;8.373859
URL:https://eventfrog.ch/de/p/diverses/modeschau-atelier-schnittpunkt-7453335954226463649.html
END:VEVENT
END:VCALENDAR