BEGIN:VCALENDAR
VERSION:2.0
PRODID:EVENTFROG//EVENT//ICAL
BEGIN:VEVENT
UID:20260426T004215Z-7453336812422990342@eventfrog.ch
DTSTAMP:20260426T004215Z
DTSTART:20260520T151500Z
DTEND:20260520T200000Z
SUMMARY:Insektenpirsch mit Bähram Alagheband
DESCRIPTION:17.15 Uhr Insektenpirsch auf der Industriebrachen Bifang\n19.00 Uhr Vortrag: Streifzug durch die Schweizer Insektenwelt\n\n20.45 Uhr Insektenpirsch in der Dunkelheit mit UV-Lampen\n\nhttps://eventfrog.ch/de/p/fuehrungen-vortraege/vortrag/insektenpirsch-mit-baehram-alagheband-7453336812422990342.html
LOCATION:Gemeindesaal
GEO:47.238785;8.187085
URL:https://eventfrog.ch/de/p/fuehrungen-vortraege/vortrag/insektenpirsch-mit-baehram-alagheband-7453336812422990342.html
END:VEVENT
END:VCALENDAR