BEGIN:VCALENDAR
VERSION:2.0
PRODID:EVENTFROG//EVENT//ICAL
BEGIN:VEVENT
UID:20260424T211545Z-7453342638617409541@eventfrog.ch
DTSTAMP:20260424T211545Z
DTSTART:20260522T170000Z
DTEND:20260522T193000Z
SUMMARY:Dating mit ADHS
DESCRIPTION:Der Workshop vermittelt Strategien für mehr Klarheit und Selbstvertrauen beim Dating und Kennenlernen mit ADHS.\n\nhttps://eventfrog.ch/de/p/dating/sonstige-veranstaltungen/dating-mit-adhs-7453342638617409541.html
LOCATION:Evénements en ligne
URL:https://eventfrog.ch/de/p/dating/sonstige-veranstaltungen/dating-mit-adhs-7453342638617409541.html
END:VEVENT
END:VCALENDAR