BEGIN:VCALENDAR
VERSION:2.0
PRODID:EVENTFROG//EVENT//ICAL
BEGIN:VEVENT
UID:20260424T163902Z-7453351054614229251@eventfrog.ch
DTSTAMP:20260424T163902Z
DTSTART:20260430T080000Z
DTEND:20260430T150000Z
SUMMARY:Tag der offenen Tür - 15 Jahre CULTIBO
DESCRIPTION:Das CULTIBO feiert 15 Jahre Engagement für ein gutes Zusammenleben in Olten. Alle sind herzlich eingeladen um mitzufeiern, mitzudenken und mitzugestalten! Ohne Anmeldung und kostenlos!\n\nhttps://eventfrog.ch/de/p/freizeit-ausfluege/tag-der-offenen-tuer/tag-der-offenen-tuer-15-jahre-cultibo-7453351054614229251.html
LOCATION:Begegnungszentrum Cultibo Olten
GEO:47.348558;7.911959
URL:https://eventfrog.ch/de/p/freizeit-ausfluege/tag-der-offenen-tuer/tag-der-offenen-tuer-15-jahre-cultibo-7453351054614229251.html
END:VEVENT
END:VCALENDAR