BEGIN:VCALENDAR
VERSION:2.0
PRODID:EVENTFROG//EVENT//ICAL
BEGIN:VEVENT
UID:20260425T155914Z-7453354365736223901@eventfrog.ch
DTSTAMP:20260425T155914Z
DTSTART:20260426T040000Z
DTEND:20260426T140000Z
SUMMARY:Burgauer Flohmarkt
DESCRIPTION:Flohmarkt für jeden mit Gruscht und Trödel. \nNeuware ist nicht erlaubt!\n\nhttps://eventfrog.ch/de/p/maerkte/flohmarkt/burgauer-flohmarkt-7453354365736223901.html
LOCATION:Parkplatz am Eisstadion
GEO:48.422747;10.412530
URL:https://eventfrog.ch/de/p/maerkte/flohmarkt/burgauer-flohmarkt-7453354365736223901.html
END:VEVENT
END:VCALENDAR