BEGIN:VCALENDAR
VERSION:2.0
PRODID:EVENTFROG//EVENT//ICAL
BEGIN:VEVENT
UID:20260424T160335Z-7453367817775146290@eventfrog.ch
DTSTAMP:20260424T160335Z
DTSTART:20261027T130000Z
DTEND:20261027T163000Z
SUMMARY:Dalbe Dyych
DESCRIPTION:Jeweils am Dienstag entdecken wir mit den Kindern ab 5 Jahren den Naturraum am Dalbe Dyych im Lehenmattquartier, Treffpunkt ist am Spielplatz St. Albanteich.\n\nhttps://eventfrog.ch/de/p/kinderveranstaltungen/familienveranstaltungen/dalbe-dyych-7453367817775146290.html
LOCATION:St. Albanteich Spielplatz
GEO:47.546778;7.619958
URL:https://eventfrog.ch/de/p/kinderveranstaltungen/familienveranstaltungen/dalbe-dyych-7453367817775146290.html
END:VEVENT
END:VCALENDAR