BEGIN:VCALENDAR
VERSION:2.0
PRODID:EVENTFROG//EVENT//ICAL
BEGIN:VEVENT
UID:20260424T163614Z-7453369809708810379@eventfrog.ch
DTSTAMP:20260424T163614Z
DTSTART:20260520T170000Z
DTEND:20260520T190000Z
SUMMARY:Generationenforum: Wie ist das Klima in der Generation Z?
DESCRIPTION:Am 20. Mai sprechen Vertreter der Generation Z im Generationenforum über ihre Lebensentwürfe und Zukunftsperspektiven.\n\nhttps://eventfrog.ch/de/p/fuehrungen-vortraege/podium/generationenforum-wie-ist-das-klima-in-der-generation-z-7453369809708810379.html
LOCATION:Rathaus Thun
GEO:46.759476;7.628294
URL:https://eventfrog.ch/de/p/fuehrungen-vortraege/podium/generationenforum-wie-ist-das-klima-in-der-generation-z-7453369809708810379.html
END:VEVENT
END:VCALENDAR