BEGIN:VCALENDAR
VERSION:2.0
PRODID:EVENTFROG//EVENT//ICAL
BEGIN:VEVENT
UID:20260426T043515Z-7453372958024702421@eventfrog.ch
DTSTAMP:20260426T043515Z
DTSTART:20260618T163000Z
DTEND:20260618T183000Z
SUMMARY:VFU Business-Lunch in Chur, 18.06.2026
DESCRIPTION:Netzwerkevent im Restaurant «Marsöl» Chur am 18. Juni: Essen, Begegnung und Boccia für Unternehmerinnen.\n\nhttps://eventfrog.ch/de/p/fuehrungen-vortraege/business-treff/vfu-business-lunch-in-chur-18-06-2026-7453372958024702421.html
LOCATION:Restaurant Marsoel
GEO:46.848289;9.533923
URL:https://eventfrog.ch/de/p/fuehrungen-vortraege/business-treff/vfu-business-lunch-in-chur-18-06-2026-7453372958024702421.html
END:VEVENT
END:VCALENDAR