BEGIN:VCALENDAR
VERSION:2.0
PRODID:EVENTFROG//EVENT//ICAL
BEGIN:VEVENT
UID:20260426T043546Z-7453377835018749916@eventfrog.ch
DTSTAMP:20260426T043546Z
DTSTART:20260429T163000Z
DTEND:20260429T220000Z
SUMMARY:GALA DES 30 ANS
DESCRIPTION:Le 29 avril 2026, gala chic au restaurant Dreilinden avec garden party étoilée\n\nhttps://eventfrog.ch/fr/p/soirees-fetes/bal-soiree-de-gala/gala-des-30-ans-7453377835018749916.html
LOCATION:Restaurant 3 Linden, Dreilindenstrasse 42, 9011 St. Gallen, CH
GEO:47.422928;9.389650
URL:https://eventfrog.ch/fr/p/soirees-fetes/bal-soiree-de-gala/gala-des-30-ans-7453377835018749916.html
END:VEVENT
END:VCALENDAR