BEGIN:VCALENDAR
VERSION:2.0
PRODID:EVENTFROG//EVENT//ICAL
BEGIN:VEVENT
UID:20260424T215920Z-7453402125608952844@eventfrog.ch
DTSTAMP:20260424T215920Z
DTSTART:20260613T170000Z
DTEND:20260613T190000Z
SUMMARY:Come from away
DESCRIPTION:Ein Musical über Menschlichkeit im Ausnahmezustand und die wahren Begegnungen, die daraus entstanden. Einakter ohne Pause, mit Liveband.\n\nhttps://eventfrog.ch/de/p/musicals-shows/musical/come-from-away-7453402125608952844.html
LOCATION:Centre Francais de Berlin
GEO:52.558430;13.339050
URL:https://eventfrog.ch/de/p/musicals-shows/musical/come-from-away-7453402125608952844.html
END:VEVENT
END:VCALENDAR