BEGIN:VCALENDAR
VERSION:2.0
PRODID:EVENTFROG//EVENT//ICAL
BEGIN:VEVENT
UID:20260425T234414Z-7453438318035926783@eventfrog.ch
DTSTAMP:20260425T234414Z
DTSTART:20260509T120000Z
DTEND:20260509T160000Z
SUMMARY:SPIGAR Würdigung seines Schaffens
DESCRIPTION:Der bekannte Rheintaler Künstler SPIGAR stellt im Kulturraum Stellwerk Heerbrugg aus. Unverkennbar sind seine tanzenden Figuren.\n\nhttps://eventfrog.ch/de/p/kunst-ausstellungen/kultur/spigar-wuerdigung-seines-schaffens-7453438318035926783.html
LOCATION:Kulturraum Stellwerk Heerbrugg
GEO:47.411361;9.629330
URL:https://eventfrog.ch/de/p/kunst-ausstellungen/kultur/spigar-wuerdigung-seines-schaffens-7453438318035926783.html
END:VEVENT
END:VCALENDAR