BEGIN:VCALENDAR
VERSION:2.0
PRODID:EVENTFROG//EVENT//ICAL
BEGIN:VEVENT
UID:20260424T235250Z-7453443901724081175@eventfrog.ch
DTSTAMP:20260424T235250Z
DTSTART:20260430T163000Z
DTEND:20260430T210000Z
SUMMARY:Zürich Beer Pong Series #3 @bQm
DESCRIPTION:Jeden Do in der bQm Bar Zürich startet um 19:00 Uhr das Beer Pong Turnier mit 32 Teams, Schweizer System und 100 CHF Gutschein als Preis.\n\nhttps://eventfrog.ch/de/p/partys/studentenparty/zuerich-beer-pong-series-3-bqm-7453443901724081175.html
LOCATION:bQm Culture Café & Bar, Leonhardstrasse 34, 8092 Zürich
GEO:47.376204;8.546751
URL:https://eventfrog.ch/de/p/partys/studentenparty/zuerich-beer-pong-series-3-bqm-7453443901724081175.html
END:VEVENT
END:VCALENDAR