BEGIN:VCALENDAR
VERSION:2.0
PRODID:EVENTFROG//EVENT//ICAL
BEGIN:VEVENT
UID:20260424T203901Z-7453453388593804158@eventfrog.ch
DTSTAMP:20260424T203901Z
DTSTART:20260510T080000Z
DTEND:20260510T150000Z
SUMMARY:Internationaler Museumstag – Grosses Oltner Museumsfest
DESCRIPTION:Am Internationalen Museumstag richten die Oltner Museen gemeinsam ein grosses Museumsfest aus unter dem Titel "Wir verbinden Welten" – mit freiem Eintritt und buntem Programm für Gross und Klein\n\nhttps://eventfrog.ch/de/p/kunst-ausstellungen/weitere-kunstveranstaltungen/internationaler-museumstag-grosses-oltner-museumsfest-7453453388593804158.html
LOCATION:Kunstmuseum Olten
GEO:47.349985;7.901622
URL:https://eventfrog.ch/de/p/kunst-ausstellungen/weitere-kunstveranstaltungen/internationaler-museumstag-grosses-oltner-museumsfest-7453453388593804158.html
END:VEVENT
END:VCALENDAR