BEGIN:VCALENDAR
VERSION:2.0
PRODID:EVENTFROG//EVENT//ICAL
BEGIN:VEVENT
UID:20260425T030738Z-7453458096360283457@eventfrog.ch
DTSTAMP:20260425T030738Z
DTSTART:20260527T160000Z
DTEND:20260527T170000Z
SUMMARY:FREE Afro Workout Dance Fitness Class in Zürich
DESCRIPTION:Afro dance- inspired Afro Workout class in Zürich! Workout to Afrobeats in a group\n\nhttps://eventfrog.ch/de/p/sport-fitness/tanzsport/free-afro-workout-dance-fitness-class-in-zuerich-7453458096360283457.html
LOCATION:BCOLLAB Dance Studio
GEO:47.377818;8.513799
URL:https://eventfrog.ch/de/p/sport-fitness/tanzsport/free-afro-workout-dance-fitness-class-in-zuerich-7453458096360283457.html
END:VEVENT
END:VCALENDAR