BEGIN:VCALENDAR
VERSION:2.0
PRODID:EVENTFROG//EVENT//ICAL
BEGIN:VEVENT
UID:20260425T104153Z-7453473251009792871@eventfrog.ch
DTSTAMP:20260425T104153Z
DTSTART:20260503T120000Z
DTEND:20260503T133000Z
SUMMARY:Kundalini Activation - Relax and Bloom
DESCRIPTION:Linda führt eine Kundalini-Aktivierung mit Atemübung und Life Force Technik für innere Heilung und tiefe Entspannung durch.\n\nhttps://eventfrog.ch/de/p/gesundheit-spiritualitaet/gesundheit-wohlbefinden/kundalini-activation-relax-and-bloom-7453473251009792871.html
LOCATION:The Looking Glass Studio Basel - Yogastudio
GEO:47.565632;7.587520
URL:https://eventfrog.ch/de/p/gesundheit-spiritualitaet/gesundheit-wohlbefinden/kundalini-activation-relax-and-bloom-7453473251009792871.html
END:VEVENT
END:VCALENDAR