BEGIN:VCALENDAR
VERSION:2.0
PRODID:EVENTFROG//EVENT//ICAL
BEGIN:VEVENT
UID:20260425T170232Z-7453735405977904377@eventfrog.ch
DTSTAMP:20260425T170232Z
DTSTART:20260516T080000Z
DTEND:20260516T100000Z
SUMMARY:Spielen im Art‘Café Liebefeld
DESCRIPTION:Freies Spielen im Art‘Café Liebefeld\n\nhttps://eventfrog.ch/de/p/freizeit-ausfluege/gruppen-spiele/spielen-im-artcafe-liebefeld-7453735405977904377.html
LOCATION:Art'Café Liebefeld
GEO:46.932875;7.422809
URL:https://eventfrog.ch/de/p/freizeit-ausfluege/gruppen-spiele/spielen-im-artcafe-liebefeld-7453735405977904377.html
END:VEVENT
END:VCALENDAR