BEGIN:VCALENDAR
VERSION:2.0
PRODID:EVENTFROG//EVENT//ICAL
BEGIN:VEVENT
UID:20260425T204455Z-7453844221415411833@eventfrog.ch
DTSTAMP:20260425T204455Z
DTSTART:20260502T163000Z
DTEND:20260502T203000Z
SUMMARY:Court-Concerts at Belvoir - Neal Sugarman & The Elevations
DESCRIPTION:Tennis auf nationalem Niveau, Food Stands, Bar und ein Rahmenprogramm für Gross und Klein – und nach den Matches wird der Center Court zur Konzertbühne.\n\nhttps://eventfrog.ch/de/p/konzerte/jazz-blues/court-concerts-at-belvoir-neal-sugarman-the-elevations-7453844221415411833.html
LOCATION:Courtside Belvoir
GEO:47.354890;8.533212
URL:https://eventfrog.ch/de/p/konzerte/jazz-blues/court-concerts-at-belvoir-neal-sugarman-the-elevations-7453844221415411833.html
END:VEVENT
END:VCALENDAR