BEGIN:VCALENDAR
VERSION:2.0
PRODID:EVENTFROG//EVENTGROUP//ICAL
BEGIN:VEVENT
UID:20260419T211037Z-7441545946868018013@eventfrog.ch
DTSTAMP:20260419T211037Z
DTSTART:20260530T160000Z
DTEND:20260530T220000Z
SUMMARY:Estawo- Dinner mit Shows u.v.m.
DESCRIPTION:Dinner mit Shows, Storytelling und Social Dance\n\nhttps://eventfrog.ch/de/p/essen-trinken/estawo-dinner-mit-shows-u-v-m-7441545946868018013.html
LOCATION:La Pantera
GEO:47.363113;8.513746
URL:https://eventfrog.ch/de/p/essen-trinken/estawo-dinner-mit-shows-u-v-m-7441545946868018013.html
END:VEVENT
BEGIN:VEVENT
UID:20260419T211037Z-7441546356513055974@eventfrog.ch
DTSTAMP:20260419T211037Z
DTSTART:20260822T160000Z
DTEND:20260822T220000Z
SUMMARY:Estawo- Dinner mit Shows u.v.m.
DESCRIPTION:Dinner mit Shows, Storytelling und Social Dance\n\nhttps://eventfrog.ch/de/p/essen-trinken/estawo-dinner-mit-shows-u-v-m-7441546356513055974.html
LOCATION:La Pantera
GEO:47.363113;8.513746
URL:https://eventfrog.ch/de/p/essen-trinken/estawo-dinner-mit-shows-u-v-m-7441546356513055974.html
END:VEVENT
BEGIN:VEVENT
UID:20260419T211037Z-7441546356630496488@eventfrog.ch
DTSTAMP:20260419T211037Z
DTSTART:20261107T170000Z
DTEND:20261107T230000Z
SUMMARY:Estawo- Dinner mit Shows u.v.m.
DESCRIPTION:Dinner mit Shows, Storytelling und Social Dance\n\nhttps://eventfrog.ch/de/p/essen-trinken/estawo-dinner-mit-shows-u-v-m-7441546356630496488.html
LOCATION:La Pantera
GEO:47.363113;8.513746
URL:https://eventfrog.ch/de/p/essen-trinken/estawo-dinner-mit-shows-u-v-m-7441546356630496488.html
END:VEVENT
END:VCALENDAR