BEGIN:VCALENDAR
VERSION:2.0
PRODID:EVENTFROG//EVENTGROUP//ICAL
BEGIN:VEVENT
UID:20260424T081830Z-7442575831874956295@eventfrog.ch
DTSTAMP:20260424T081830Z
DTSTART:20260513T090000Z
DTEND:20260513T160000Z
SUMMARY:Bounce Circus @ Erlenpark 2026
DESCRIPTION:Bounce Circus bietet Hüpfburgen, Klettern und Rutschen für alle ab 4 Jahren von 11 bis 18 Uhr, mit Kiosk und Restaurant.\n\nhttps://eventfrog.ch/de/p/kinderveranstaltungen/familienveranstaltungen/bounce-circus-erlenpark-2026-7442575831874956295.html
LOCATION:Sportanlage Erlen
GEO:47.482411;8.471470
URL:https://eventfrog.ch/de/p/kinderveranstaltungen/familienveranstaltungen/bounce-circus-erlenpark-2026-7442575831874956295.html
END:VEVENT
BEGIN:VEVENT
UID:20260424T081830Z-7442578196531314452@eventfrog.ch
DTSTAMP:20260424T081830Z
DTSTART:20260514T090000Z
DTEND:20260514T160000Z
SUMMARY:Bounce Circus @ Erlenpark 2026
DESCRIPTION:Bounce Circus bietet Hüpfburgen, Klettern und Rutschen für alle ab 4 Jahren von 11 bis 18 Uhr, mit Kiosk und Restaurant.\n\nhttps://eventfrog.ch/de/p/kinderveranstaltungen/familienveranstaltungen/bounce-circus-erlenpark-2026-7442578196531314452.html
LOCATION:Sportanlage Erlen
GEO:47.482411;8.471470
URL:https://eventfrog.ch/de/p/kinderveranstaltungen/familienveranstaltungen/bounce-circus-erlenpark-2026-7442578196531314452.html
END:VEVENT
BEGIN:VEVENT
UID:20260424T081830Z-7442578247613682251@eventfrog.ch
DTSTAMP:20260424T081830Z
DTSTART:20260515T090000Z
DTEND:20260515T160000Z
SUMMARY:Bounce Circus @ Erlenpark 2026
DESCRIPTION:Bounce Circus bietet Hüpfburgen, Klettern und Rutschen für alle ab 4 Jahren von 11 bis 18 Uhr, mit Kiosk und Restaurant.\n\nhttps://eventfrog.ch/de/p/kinderveranstaltungen/familienveranstaltungen/bounce-circus-erlenpark-2026-7442578247613682251.html
LOCATION:Sportanlage Erlen
GEO:47.482411;8.471470
URL:https://eventfrog.ch/de/p/kinderveranstaltungen/familienveranstaltungen/bounce-circus-erlenpark-2026-7442578247613682251.html
END:VEVENT
BEGIN:VEVENT
UID:20260424T081830Z-7442578304064824617@eventfrog.ch
DTSTAMP:20260424T081830Z
DTSTART:20260516T090000Z
DTEND:20260516T160000Z
SUMMARY:Bounce Circus @ Erlenpark 2026
DESCRIPTION:Bounce Circus bietet Hüpfburgen, Klettern und Rutschen für alle ab 4 Jahren von 11 bis 18 Uhr, mit Kiosk und Restaurant.\n\nhttps://eventfrog.ch/de/p/kinderveranstaltungen/familienveranstaltungen/bounce-circus-erlenpark-2026-7442578304064824617.html
LOCATION:Sportanlage Erlen
GEO:47.482411;8.471470
URL:https://eventfrog.ch/de/p/kinderveranstaltungen/familienveranstaltungen/bounce-circus-erlenpark-2026-7442578304064824617.html
END:VEVENT
BEGIN:VEVENT
UID:20260424T081830Z-7442578354857849770@eventfrog.ch
DTSTAMP:20260424T081830Z
DTSTART:20260517T090000Z
DTEND:20260517T160000Z
SUMMARY:Bounce Circus @ Erlenpark 2026
DESCRIPTION:Bounce Circus bietet Hüpfburgen, Klettern und Rutschen für alle ab 4 Jahren von 11 bis 18 Uhr, mit Kiosk und Restaurant.\n\nhttps://eventfrog.ch/de/p/kinderveranstaltungen/familienveranstaltungen/bounce-circus-erlenpark-2026-7442578354857849770.html
LOCATION:Sportanlage Erlen
GEO:47.482411;8.471470
URL:https://eventfrog.ch/de/p/kinderveranstaltungen/familienveranstaltungen/bounce-circus-erlenpark-2026-7442578354857849770.html
END:VEVENT
BEGIN:VEVENT
UID:20260424T081830Z-7442578407282460084@eventfrog.ch
DTSTAMP:20260424T081830Z
DTSTART:20260520T090000Z
DTEND:20260520T160000Z
SUMMARY:Bounce Circus @ Erlenpark 2026
DESCRIPTION:Bounce Circus bietet Hüpfburgen, Klettern und Rutschen für alle ab 4 Jahren von 11 bis 18 Uhr, mit Kiosk und Restaurant.\n\nhttps://eventfrog.ch/de/p/kinderveranstaltungen/familienveranstaltungen/bounce-circus-erlenpark-2026-7442578407282460084.html
LOCATION:Sportanlage Erlen
GEO:47.482411;8.471470
URL:https://eventfrog.ch/de/p/kinderveranstaltungen/familienveranstaltungen/bounce-circus-erlenpark-2026-7442578407282460084.html
END:VEVENT
BEGIN:VEVENT
UID:20260424T081830Z-7442578455785394486@eventfrog.ch
DTSTAMP:20260424T081830Z
DTSTART:20260523T090000Z
DTEND:20260523T160000Z
SUMMARY:Bounce Circus @ Erlenpark 2026
DESCRIPTION:Bounce Circus bietet Hüpfburgen, Klettern und Rutschen für alle ab 4 Jahren von 11 bis 18 Uhr, mit Kiosk und Restaurant.\n\nhttps://eventfrog.ch/de/p/kinderveranstaltungen/familienveranstaltungen/bounce-circus-erlenpark-2026-7442578455785394486.html
LOCATION:Sportanlage Erlen
GEO:47.482411;8.471470
URL:https://eventfrog.ch/de/p/kinderveranstaltungen/familienveranstaltungen/bounce-circus-erlenpark-2026-7442578455785394486.html
END:VEVENT
BEGIN:VEVENT
UID:20260424T081830Z-7442578515591977080@eventfrog.ch
DTSTAMP:20260424T081830Z
DTSTART:20260524T090000Z
DTEND:20260524T160000Z
SUMMARY:Bounce Circus @ Erlenpark 2026
DESCRIPTION:Bounce Circus bietet Hüpfburgen, Klettern und Rutschen für alle ab 4 Jahren von 11 bis 18 Uhr, mit Kiosk und Restaurant.\n\nhttps://eventfrog.ch/de/p/kinderveranstaltungen/familienveranstaltungen/bounce-circus-erlenpark-2026-7442578515591977080.html
LOCATION:Sportanlage Erlen
GEO:47.482411;8.471470
URL:https://eventfrog.ch/de/p/kinderveranstaltungen/familienveranstaltungen/bounce-circus-erlenpark-2026-7442578515591977080.html
END:VEVENT
BEGIN:VEVENT
UID:20260424T081830Z-7442578577097255982@eventfrog.ch
DTSTAMP:20260424T081830Z
DTSTART:20260525T090000Z
DTEND:20260525T160000Z
SUMMARY:Bounce Circus @ Erlenpark 2026
DESCRIPTION:Bounce Circus bietet Hüpfburgen, Klettern und Rutschen für alle ab 4 Jahren von 11 bis 18 Uhr, mit Kiosk und Restaurant.\n\nhttps://eventfrog.ch/de/p/kinderveranstaltungen/familienveranstaltungen/bounce-circus-erlenpark-2026-7442578577097255982.html
LOCATION:Sportanlage Erlen
GEO:47.482411;8.471470
URL:https://eventfrog.ch/de/p/kinderveranstaltungen/familienveranstaltungen/bounce-circus-erlenpark-2026-7442578577097255982.html
END:VEVENT
BEGIN:VEVENT
UID:20260424T081830Z-7442578621837899421@eventfrog.ch
DTSTAMP:20260424T081830Z
DTSTART:20260527T090000Z
DTEND:20260527T160000Z
SUMMARY:Bounce Circus @ Erlenpark 2026
DESCRIPTION:Bounce Circus bietet Hüpfburgen, Klettern und Rutschen für alle ab 4 Jahren von 11 bis 18 Uhr, mit Kiosk und Restaurant.\n\nhttps://eventfrog.ch/de/p/kinderveranstaltungen/familienveranstaltungen/bounce-circus-erlenpark-2026-7442578621837899421.html
LOCATION:Sportanlage Erlen
GEO:47.482411;8.471470
URL:https://eventfrog.ch/de/p/kinderveranstaltungen/familienveranstaltungen/bounce-circus-erlenpark-2026-7442578621837899421.html
END:VEVENT
BEGIN:VEVENT
UID:20260424T081830Z-7442578673767583041@eventfrog.ch
DTSTAMP:20260424T081830Z
DTSTART:20260530T090000Z
DTEND:20260530T160000Z
SUMMARY:Bounce Circus @ Erlenpark 2026
DESCRIPTION:Bounce Circus bietet Hüpfburgen, Klettern und Rutschen für alle ab 4 Jahren von 11 bis 18 Uhr, mit Kiosk und Restaurant.\n\nhttps://eventfrog.ch/de/p/kinderveranstaltungen/familienveranstaltungen/bounce-circus-erlenpark-2026-7442578673767583041.html
LOCATION:Sportanlage Erlen
GEO:47.482411;8.471470
URL:https://eventfrog.ch/de/p/kinderveranstaltungen/familienveranstaltungen/bounce-circus-erlenpark-2026-7442578673767583041.html
END:VEVENT
BEGIN:VEVENT
UID:20260424T081830Z-7442578712636200836@eventfrog.ch
DTSTAMP:20260424T081830Z
DTSTART:20260531T090000Z
DTEND:20260531T160000Z
SUMMARY:Bounce Circus @ Erlenpark 2026
DESCRIPTION:Bounce Circus bietet Hüpfburgen, Klettern und Rutschen für alle ab 4 Jahren von 11 bis 18 Uhr, mit Kiosk und Restaurant.\n\nhttps://eventfrog.ch/de/p/kinderveranstaltungen/familienveranstaltungen/bounce-circus-erlenpark-2026-7442578712636200836.html
LOCATION:Sportanlage Erlen
GEO:47.482411;8.471470
URL:https://eventfrog.ch/de/p/kinderveranstaltungen/familienveranstaltungen/bounce-circus-erlenpark-2026-7442578712636200836.html
END:VEVENT
BEGIN:VEVENT
UID:20260424T081830Z-7442578773101297371@eventfrog.ch
DTSTAMP:20260424T081830Z
DTSTART:20260603T090000Z
DTEND:20260603T160000Z
SUMMARY:Bounce Circus @ Erlenpark 2026
DESCRIPTION:Bounce Circus bietet Hüpfburgen, Klettern und Rutschen für alle ab 4 Jahren von 11 bis 18 Uhr, mit Kiosk und Restaurant.\n\nhttps://eventfrog.ch/de/p/kinderveranstaltungen/familienveranstaltungen/bounce-circus-erlenpark-2026-7442578773101297371.html
LOCATION:Sportanlage Erlen
GEO:47.482411;8.471470
URL:https://eventfrog.ch/de/p/kinderveranstaltungen/familienveranstaltungen/bounce-circus-erlenpark-2026-7442578773101297371.html
END:VEVENT
BEGIN:VEVENT
UID:20260424T081830Z-7442578822644421595@eventfrog.ch
DTSTAMP:20260424T081830Z
DTSTART:20260606T090000Z
DTEND:20260606T160000Z
SUMMARY:Bounce Circus @ Erlenpark 2026
DESCRIPTION:Bounce Circus bietet Hüpfburgen, Klettern und Rutschen für alle ab 4 Jahren von 11 bis 18 Uhr, mit Kiosk und Restaurant.\n\nhttps://eventfrog.ch/de/p/kinderveranstaltungen/familienveranstaltungen/bounce-circus-erlenpark-2026-7442578822644421595.html
LOCATION:Sportanlage Erlen
GEO:47.482411;8.471470
URL:https://eventfrog.ch/de/p/kinderveranstaltungen/familienveranstaltungen/bounce-circus-erlenpark-2026-7442578822644421595.html
END:VEVENT
BEGIN:VEVENT
UID:20260424T081830Z-7442578876004359630@eventfrog.ch
DTSTAMP:20260424T081830Z
DTSTART:20260607T090000Z
DTEND:20260607T160000Z
SUMMARY:Bounce Circus @ Erlenpark 2026
DESCRIPTION:Bounce Circus bietet Hüpfburgen, Klettern und Rutschen für alle ab 4 Jahren von 11 bis 18 Uhr, mit Kiosk und Restaurant.\n\nhttps://eventfrog.ch/de/p/kinderveranstaltungen/familienveranstaltungen/bounce-circus-erlenpark-2026-7442578876004359630.html
LOCATION:Sportanlage Erlen
GEO:47.482411;8.471470
URL:https://eventfrog.ch/de/p/kinderveranstaltungen/familienveranstaltungen/bounce-circus-erlenpark-2026-7442578876004359630.html
END:VEVENT
END:VCALENDAR