BEGIN:VCALENDAR
VERSION:2.0
PRODID:EVENTFROG//EVENTGROUP//ICAL
BEGIN:VEVENT
UID:20260424T194250Z-7447332657145317977@eventfrog.ch
DTSTAMP:20260424T194250Z
DTSTART:20260528T180000Z
DTEND:20260528T200000Z
SUMMARY:Herzmeditation
DESCRIPTION:Im Hotel Palace Nairs Scuol bringt die Herzmeditation nach Karunesh deinen Geist und Körper zur Ruhe und stärkt somit die Verbindung zu deinem Herzraum, zu deiner Seele.\n\nhttps://eventfrog.ch/de/p/gesundheit-spiritualitaet/gesundheit-wohlbefinden/herzmeditation-7447332657145317977.html
LOCATION:Hotel Scuol Palace
GEO:46.789774;10.275709
URL:https://eventfrog.ch/de/p/gesundheit-spiritualitaet/gesundheit-wohlbefinden/herzmeditation-7447332657145317977.html
END:VEVENT
BEGIN:VEVENT
UID:20260424T194250Z-7447333321091104024@eventfrog.ch
DTSTAMP:20260424T194250Z
DTSTART:20260611T180000Z
DTEND:20260611T200000Z
SUMMARY:Herzmeditation
DESCRIPTION:Im Hotel Palace Nairs Scuol bringt die Herzmeditation nach Karunesh deinen Geist und Körper zur Ruhe und stärkt somit die Verbindung zu deinem Herzraum, zu deiner Seele.\n\nhttps://eventfrog.ch/de/p/gesundheit-spiritualitaet/gesundheit-wohlbefinden/herzmeditation-7447333321091104024.html
LOCATION:Hotel Scuol Palace
GEO:46.789774;10.275709
URL:https://eventfrog.ch/de/p/gesundheit-spiritualitaet/gesundheit-wohlbefinden/herzmeditation-7447333321091104024.html
END:VEVENT
BEGIN:VEVENT
UID:20260424T194250Z-7447333321242099578@eventfrog.ch
DTSTAMP:20260424T194250Z
DTSTART:20260625T180000Z
DTEND:20260625T200000Z
SUMMARY:Herzmeditation
DESCRIPTION:Im Hotel Palace Nairs Scuol bringt die Herzmeditation nach Karunesh deinen Geist und Körper zur Ruhe und stärkt somit die Verbindung zu deinem Herzraum, zu deiner Seele.\n\nhttps://eventfrog.ch/de/p/gesundheit-spiritualitaet/gesundheit-wohlbefinden/herzmeditation-7447333321242099578.html
LOCATION:Hotel Scuol Palace
GEO:46.789774;10.275709
URL:https://eventfrog.ch/de/p/gesundheit-spiritualitaet/gesundheit-wohlbefinden/herzmeditation-7447333321242099578.html
END:VEVENT
END:VCALENDAR