BEGIN:VCALENDAR
VERSION:2.0
PRODID:EVENTFROG//EVENTGROUP//ICAL
BEGIN:VEVENT
UID:20260419T200108Z-7448255728085652070@eventfrog.ch
DTSTAMP:20260419T200108Z
DTSTART:20260514T080000Z
DTEND:20260514T160000Z
SUMMARY:25 Jahre Gartenträume auf dem Linslerhof
DESCRIPTION:Die Gartenträume-Gartenmesse zeigt über 80 Aussteller, kreative Aktionen und bietet eine botanische Führung mit Pflanzenarzt René Wadas.\n\nhttps://eventfrog.ch/de/p/messen/gartenschau/25-jahre-gartentraeume-auf-dem-linslerhof-7448255728085652070.html
LOCATION:Linslerhof
GEO:49.251755;6.730406
URL:https://eventfrog.ch/de/p/messen/gartenschau/25-jahre-gartentraeume-auf-dem-linslerhof-7448255728085652070.html
END:VEVENT
BEGIN:VEVENT
UID:20260419T200108Z-7448255880947065359@eventfrog.ch
DTSTAMP:20260419T200108Z
DTSTART:20260515T080000Z
DTEND:20260515T160000Z
SUMMARY:25 Jahre Gartenträume auf dem Linslerhof
DESCRIPTION:Die Gartenträume-Gartenmesse zeigt über 80 Aussteller, kreative Aktionen und bietet eine botanische Führung mit Pflanzenarzt René Wadas.\n\nhttps://eventfrog.ch/de/p/messen/gartenschau/25-jahre-gartentraeume-auf-dem-linslerhof-7448255880947065359.html
LOCATION:Linslerhof
GEO:49.251755;6.730406
URL:https://eventfrog.ch/de/p/messen/gartenschau/25-jahre-gartentraeume-auf-dem-linslerhof-7448255880947065359.html
END:VEVENT
BEGIN:VEVENT
UID:20260419T200108Z-7448255881026757648@eventfrog.ch
DTSTAMP:20260419T200108Z
DTSTART:20260516T080000Z
DTEND:20260516T160000Z
SUMMARY:25 Jahre Gartenträume auf dem Linslerhof
DESCRIPTION:Die Gartenträume-Gartenmesse zeigt über 80 Aussteller, kreative Aktionen und bietet eine botanische Führung mit Pflanzenarzt René Wadas.\n\nhttps://eventfrog.ch/de/p/messen/gartenschau/25-jahre-gartentraeume-auf-dem-linslerhof-7448255881026757648.html
LOCATION:Linslerhof
GEO:49.251755;6.730406
URL:https://eventfrog.ch/de/p/messen/gartenschau/25-jahre-gartentraeume-auf-dem-linslerhof-7448255881026757648.html
END:VEVENT
BEGIN:VEVENT
UID:20260419T200108Z-7448255881114838129@eventfrog.ch
DTSTAMP:20260419T200108Z
DTSTART:20260517T080000Z
DTEND:20260517T160000Z
SUMMARY:25 Jahre Gartenträume auf dem Linslerhof
DESCRIPTION:Die Gartenträume-Gartenmesse zeigt über 80 Aussteller, kreative Aktionen und bietet eine botanische Führung mit Pflanzenarzt René Wadas.\n\nhttps://eventfrog.ch/de/p/messen/gartenschau/25-jahre-gartentraeume-auf-dem-linslerhof-7448255881114838129.html
LOCATION:Linslerhof
GEO:49.251755;6.730406
URL:https://eventfrog.ch/de/p/messen/gartenschau/25-jahre-gartentraeume-auf-dem-linslerhof-7448255881114838129.html
END:VEVENT
END:VCALENDAR