BEGIN:VCALENDAR
VERSION:2.0
PRODID:EVENTFROG//EVENTGROUP//ICAL
BEGIN:VEVENT
UID:20260425T160821Z-7449070694531382805@eventfrog.ch
DTSTAMP:20260425T160821Z
DTSTART:20260619T181500Z
SUMMARY:STOK ET LE CIRQUE OUBLIÉ
DESCRIPTION:STOK ET LE CIRQUE OUBLIÉ est une aventure musicale et théâtrale qui plongera le public dans l'atmosphère si particulière de la piste aux étoiles. \n\nhttps://eventfrog.ch/fr/p/comedies-musicales-spectacles/comedie-musicale/stok-et-le-cirque-oublie-7449070694531382805.html
LOCATION:Salle communale
GEO:46.600575;6.681373
URL:https://eventfrog.ch/fr/p/comedies-musicales-spectacles/comedie-musicale/stok-et-le-cirque-oublie-7449070694531382805.html
END:VEVENT
BEGIN:VEVENT
UID:20260425T160821Z-7449090690758259195@eventfrog.ch
DTSTAMP:20260425T160821Z
DTSTART:20260620T181500Z
SUMMARY:STOK ET LE CIRQUE OUBLIÉ
DESCRIPTION:STOK ET LE CIRQUE OUBLIÉ est une aventure musicale et théâtrale qui plongera le public dans l'atmosphère si particulière de la piste aux étoiles. \n\nhttps://eventfrog.ch/fr/p/comedies-musicales-spectacles/comedie-musicale/stok-et-le-cirque-oublie-7449090690758259195.html
LOCATION:Salle communale
GEO:46.600575;6.681373
URL:https://eventfrog.ch/fr/p/comedies-musicales-spectacles/comedie-musicale/stok-et-le-cirque-oublie-7449090690758259195.html
END:VEVENT
BEGIN:VEVENT
UID:20260425T160821Z-7449070694653017624@eventfrog.ch
DTSTAMP:20260425T160821Z
DTSTART:20260621T150000Z
SUMMARY:STOK ET LE CIRQUE OUBLIÉ
DESCRIPTION:STOK ET LE CIRQUE OUBLIÉ est une aventure musicale et théâtrale qui plongera le public dans l'atmosphère si particulière de la piste aux étoiles. \n\nhttps://eventfrog.ch/fr/p/comedies-musicales-spectacles/comedie-musicale/stok-et-le-cirque-oublie-7449070694653017624.html
LOCATION:Salle communale
GEO:46.600575;6.681373
URL:https://eventfrog.ch/fr/p/comedies-musicales-spectacles/comedie-musicale/stok-et-le-cirque-oublie-7449070694653017624.html
END:VEVENT
END:VCALENDAR