BEGIN:VCALENDAR
VERSION:2.0
PRODID:EVENTFROG//EVENTGROUP//ICAL
BEGIN:VEVENT
UID:20260424T064909Z-7453035601866034291@eventfrog.ch
DTSTAMP:20260424T064909Z
DTSTART:20260427T100000Z
DTEND:20260427T140000Z
SUMMARY:"CAPOPINSA" Opening Week
DESCRIPTION:Täglich gibt es eine begrenzte Anzahl an Mittagsgutscheinen für die Eröffnungswoche von Capo Pinsa in Zürich. Holen Sie sich kostenlose Pinsa sowie 50 %- oder 20 %-Rabatte für den Verzehr vor Ort.\n\nhttps://eventfrog.ch/en/p/eating-drinking/capopinsa-opening-week-7453035601866034291.html
LOCATION:Capo Pinsa | Vior
GEO:47.372869;8.534810
URL:https://eventfrog.ch/en/p/eating-drinking/capopinsa-opening-week-7453035601866034291.html
END:VEVENT
BEGIN:VEVENT
UID:20260424T064909Z-7453035601991863504@eventfrog.ch
DTSTAMP:20260424T064909Z
DTSTART:20260428T100000Z
DTEND:20260428T140000Z
SUMMARY:"CAPOPINSA" Opening Week
DESCRIPTION:Täglich gibt es eine begrenzte Anzahl an Mittagsgutscheinen für die Eröffnungswoche von Capo Pinsa in Zürich. Holen Sie sich kostenlose Pinsa sowie 50 %- oder 20 %-Rabatte für den Verzehr vor Ort.\n\nhttps://eventfrog.ch/en/p/eating-drinking/capopinsa-opening-week-7453035601991863504.html
LOCATION:Capo Pinsa | Vior
GEO:47.372869;8.534810
URL:https://eventfrog.ch/en/p/eating-drinking/capopinsa-opening-week-7453035601991863504.html
END:VEVENT
BEGIN:VEVENT
UID:20260424T064909Z-7453035602105109714@eventfrog.ch
DTSTAMP:20260424T064909Z
DTSTART:20260429T100000Z
DTEND:20260429T140000Z
SUMMARY:"CAPOPINSA" Opening Week
DESCRIPTION:Täglich gibt es eine begrenzte Anzahl an Mittagsgutscheinen für die Eröffnungswoche von Capo Pinsa in Zürich. Holen Sie sich kostenlose Pinsa sowie 50 %- oder 20 %-Rabatte für den Verzehr vor Ort.\n\nhttps://eventfrog.ch/en/p/eating-drinking/capopinsa-opening-week-7453035602105109714.html
LOCATION:Capo Pinsa | Vior
GEO:47.372869;8.534810
URL:https://eventfrog.ch/en/p/eating-drinking/capopinsa-opening-week-7453035602105109714.html
END:VEVENT
BEGIN:VEVENT
UID:20260424T064909Z-7453035602218355997@eventfrog.ch
DTSTAMP:20260424T064909Z
DTSTART:20260430T100000Z
DTEND:20260430T140000Z
SUMMARY:"CAPOPINSA" Opening Week
DESCRIPTION:Täglich gibt es eine begrenzte Anzahl an Mittagsgutscheinen für die Eröffnungswoche von Capo Pinsa in Zürich. Holen Sie sich kostenlose Pinsa sowie 50 %- oder 20 %-Rabatte für den Verzehr vor Ort.\n\nhttps://eventfrog.ch/en/p/eating-drinking/capopinsa-opening-week-7453035602218355997.html
LOCATION:Capo Pinsa | Vior
GEO:47.372869;8.534810
URL:https://eventfrog.ch/en/p/eating-drinking/capopinsa-opening-week-7453035602218355997.html
END:VEVENT
BEGIN:VEVENT
UID:20260424T064909Z-7453050704451606359@eventfrog.ch
DTSTAMP:20260424T064909Z
DTSTART:20260504T100000Z
DTEND:20260504T140000Z
SUMMARY:"CAPOPINSA" Opening Week
DESCRIPTION:Täglich gibt es eine begrenzte Anzahl an Mittagsgutscheinen für die Eröffnungswoche von Capo Pinsa in Zürich. Holen Sie sich kostenlose Pinsa sowie 50 %- oder 20 %-Rabatte für den Verzehr vor Ort.\n\nhttps://eventfrog.ch/en/p/eating-drinking/capopinsa-opening-week-7453050704451606359.html
LOCATION:Capo Pinsa | Vior
GEO:47.372869;8.534810
URL:https://eventfrog.ch/en/p/eating-drinking/capopinsa-opening-week-7453050704451606359.html
END:VEVENT
END:VCALENDAR