BEGIN:VCALENDAR
VERSION:2.0
PRODID:EVENTFROG//EVENTGROUP//ICAL
BEGIN:VEVENT
UID:20260424T170040Z-7451392142532968458@eventfrog.ch
DTSTAMP:20260424T170040Z
DTSTART:20260502T145000Z
SUMMARY:Divine Comedy
DESCRIPTION:Verspielte Satire auf die Absurdität iranischer Filmzensur.\n\nhttps://eventfrog.ch/de/p/freizeit-ausfluege/divine-comedy-7451392142532968458.html
LOCATION:Kinok – Cinema in der Lokremise
GEO:47.421287;9.366104
URL:https://eventfrog.ch/de/p/freizeit-ausfluege/divine-comedy-7451392142532968458.html
END:VEVENT
BEGIN:VEVENT
UID:20260424T170040Z-7451392142704934925@eventfrog.ch
DTSTAMP:20260424T170040Z
DTSTART:20260508T191500Z
SUMMARY:Divine Comedy
DESCRIPTION:Verspielte Satire auf die Absurdität iranischer Filmzensur.\n\nhttps://eventfrog.ch/de/p/freizeit-ausfluege/divine-comedy-7451392142704934925.html
LOCATION:Kinok – Cinema in der Lokremise
GEO:47.421287;9.366104
URL:https://eventfrog.ch/de/p/freizeit-ausfluege/divine-comedy-7451392142704934925.html
END:VEVENT
BEGIN:VEVENT
UID:20260424T170040Z-7451392142876901592@eventfrog.ch
DTSTAMP:20260424T170040Z
DTSTART:20260514T142000Z
SUMMARY:Divine Comedy
DESCRIPTION:Verspielte Satire auf die Absurdität iranischer Filmzensur.\n\nhttps://eventfrog.ch/de/p/freizeit-ausfluege/divine-comedy-7451392142876901592.html
LOCATION:Kinok – Cinema in der Lokremise
GEO:47.421287;9.366104
URL:https://eventfrog.ch/de/p/freizeit-ausfluege/divine-comedy-7451392142876901592.html
END:VEVENT
BEGIN:VEVENT
UID:20260424T170040Z-7451392143048868058@eventfrog.ch
DTSTAMP:20260424T170040Z
DTSTART:20260519T163000Z
SUMMARY:Divine Comedy
DESCRIPTION:Verspielte Satire auf die Absurdität iranischer Filmzensur.\n\nhttps://eventfrog.ch/de/p/freizeit-ausfluege/divine-comedy-7451392143048868058.html
LOCATION:Kinok – Cinema in der Lokremise
GEO:47.421287;9.366104
URL:https://eventfrog.ch/de/p/freizeit-ausfluege/divine-comedy-7451392143048868058.html
END:VEVENT
END:VCALENDAR