BEGIN:VCALENDAR
VERSION:2.0
PRODID:EVENTFROG//EVENTGROUP//ICAL
BEGIN:VEVENT
UID:20260424T063600Z-7449843195381331728@eventfrog.ch
DTSTAMP:20260424T063600Z
DTSTART:20260516T170000Z
DTEND:20260516T194500Z
SUMMARY:Knusperli-Schifff uff em Rhy
DESCRIPTION:Geniesse knusprige Knusperli mit Beilagen auf einer Rheinfahrt in Basel. Unkomplizierter Genussabend mit Stadtblick.\n\nhttps://eventfrog.ch/de/p/essen-trinken/knusperli-schifff-uff-em-rhy-7449843195381331728.html
LOCATION:Rhystärn der Basler Personenschifffahrt AG
GEO:47.559852;7.588288
URL:https://eventfrog.ch/de/p/essen-trinken/knusperli-schifff-uff-em-rhy-7449843195381331728.html
END:VEVENT
BEGIN:VEVENT
UID:20260424T063600Z-7449843308665298790@eventfrog.ch
DTSTAMP:20260424T063600Z
DTSTART:20260528T170000Z
DTEND:20260528T194500Z
SUMMARY:Knusperli-Schifff uff em Rhy
DESCRIPTION:Geniesse knusprige Knusperli mit Beilagen auf einer Rheinfahrt in Basel. Unkomplizierter Genussabend mit Stadtblick.\n\nhttps://eventfrog.ch/de/p/essen-trinken/knusperli-schifff-uff-em-rhy-7449843308665298790.html
LOCATION:Rhystärn der Basler Personenschifffahrt AG
GEO:47.559852;7.588288
URL:https://eventfrog.ch/de/p/essen-trinken/knusperli-schifff-uff-em-rhy-7449843308665298790.html
END:VEVENT
BEGIN:VEVENT
UID:20260424T063600Z-7449843308933734898@eventfrog.ch
DTSTAMP:20260424T063600Z
DTSTART:20260611T170000Z
DTEND:20260611T194500Z
SUMMARY:Knusperli-Schifff uff em Rhy
DESCRIPTION:Geniesse knusprige Knusperli mit Beilagen auf einer Rheinfahrt in Basel. Unkomplizierter Genussabend mit Stadtblick.\n\nhttps://eventfrog.ch/de/p/essen-trinken/knusperli-schifff-uff-em-rhy-7449843308933734898.html
LOCATION:Rhystärn der Basler Personenschifffahrt AG
GEO:47.559852;7.588288
URL:https://eventfrog.ch/de/p/essen-trinken/knusperli-schifff-uff-em-rhy-7449843308933734898.html
END:VEVENT
END:VCALENDAR