BEGIN:VCALENDAR
VERSION:2.0
PRODID:EVENTFROG//EVENTGROUP//ICAL
BEGIN:VEVENT
UID:20260419T230602Z-7450889631963304306@eventfrog.ch
DTSTAMP:20260419T230602Z
DTSTART:20260705T100500Z
DTEND:20260705T150100Z
SUMMARY:Erlebnisrundfahrt Ostschweiz
DESCRIPTION:Entdecken Sie die Ostschweiz aus zwei verschiedenen Perspektiven: vom Wasser und vom Land.\n\nhttps://eventfrog.ch/de/p/freizeit-ausfluege/ausflug/erlebnisrundfahrt-ostschweiz-7450889631963304306.html
LOCATION:Hafen Romanshorn
GEO:47.564570;9.380650
URL:https://eventfrog.ch/de/p/freizeit-ausfluege/ausflug/erlebnisrundfahrt-ostschweiz-7450889631963304306.html
END:VEVENT
BEGIN:VEVENT
UID:20260419T230602Z-7450889724187664063@eventfrog.ch
DTSTAMP:20260419T230602Z
DTSTART:20260725T100500Z
DTEND:20260725T150100Z
SUMMARY:Erlebnisrundfahrt Ostschweiz
DESCRIPTION:Entdecken Sie die Ostschweiz aus zwei verschiedenen Perspektiven: vom Wasser und vom Land.\n\nhttps://eventfrog.ch/de/p/freizeit-ausfluege/ausflug/erlebnisrundfahrt-ostschweiz-7450889724187664063.html
LOCATION:Hafen Romanshorn
GEO:47.564570;9.380650
URL:https://eventfrog.ch/de/p/freizeit-ausfluege/ausflug/erlebnisrundfahrt-ostschweiz-7450889724187664063.html
END:VEVENT
BEGIN:VEVENT
UID:20260419T230602Z-7450889724439322930@eventfrog.ch
DTSTAMP:20260419T230602Z
DTSTART:20260816T100500Z
DTEND:20260816T150100Z
SUMMARY:Erlebnisrundfahrt Ostschweiz
DESCRIPTION:Entdecken Sie die Ostschweiz aus zwei verschiedenen Perspektiven: vom Wasser und vom Land.\n\nhttps://eventfrog.ch/de/p/freizeit-ausfluege/ausflug/erlebnisrundfahrt-ostschweiz-7450889724439322930.html
LOCATION:Hafen Romanshorn
GEO:47.564570;9.380650
URL:https://eventfrog.ch/de/p/freizeit-ausfluege/ausflug/erlebnisrundfahrt-ostschweiz-7450889724439322930.html
END:VEVENT
BEGIN:VEVENT
UID:20260419T230602Z-7450889724556763506@eventfrog.ch
DTSTAMP:20260419T230602Z
DTSTART:20260913T100500Z
DTEND:20260913T150100Z
SUMMARY:Erlebnisrundfahrt Ostschweiz
DESCRIPTION:Entdecken Sie die Ostschweiz aus zwei verschiedenen Perspektiven: vom Wasser und vom Land.\n\nhttps://eventfrog.ch/de/p/freizeit-ausfluege/ausflug/erlebnisrundfahrt-ostschweiz-7450889724556763506.html
LOCATION:Hafen Romanshorn
GEO:47.564570;9.380650
URL:https://eventfrog.ch/de/p/freizeit-ausfluege/ausflug/erlebnisrundfahrt-ostschweiz-7450889724556763506.html
END:VEVENT
END:VCALENDAR