BEGIN:VCALENDAR
VERSION:2.0
PRODID:EVENTFROG//EVENTGROUP//ICAL
BEGIN:VEVENT
UID:20260419T150612Z-7451031665978170353@eventfrog.ch
DTSTAMP:20260419T150612Z
DTSTART:20260421T143000Z
DTEND:20260421T170000Z
SUMMARY:QuartierSchalter
DESCRIPTION:Raum für Fragen und Anliegen, kostenlos, ohne Anmeldung\n\nhttps://eventfrog.ch/de/p/diverses/quartierschalter-7451031665978170353.html
LOCATION:tiRumpel
GEO:47.420944;9.356495
URL:https://eventfrog.ch/de/p/diverses/quartierschalter-7451031665978170353.html
END:VEVENT
BEGIN:VEVENT
UID:20260419T150612Z-7451031666145942514@eventfrog.ch
DTSTAMP:20260419T150612Z
DTSTART:20260428T143000Z
DTEND:20260428T170000Z
SUMMARY:QuartierSchalter
DESCRIPTION:Raum für Fragen und Anliegen, kostenlos, ohne Anmeldung\n\nhttps://eventfrog.ch/de/p/diverses/quartierschalter-7451031666145942514.html
LOCATION:tiRumpel
GEO:47.420944;9.356495
URL:https://eventfrog.ch/de/p/diverses/quartierschalter-7451031666145942514.html
END:VEVENT
BEGIN:VEVENT
UID:20260419T150612Z-7451031667676863487@eventfrog.ch
DTSTAMP:20260419T150612Z
DTSTART:20260630T143000Z
DTEND:20260630T170000Z
SUMMARY:QuartierSchalter
DESCRIPTION:Raum für Fragen und Anliegen, kostenlos, ohne Anmeldung\n\nhttps://eventfrog.ch/de/p/diverses/quartierschalter-7451031667676863487.html
LOCATION:tiRumpel
GEO:47.420944;9.356495
URL:https://eventfrog.ch/de/p/diverses/quartierschalter-7451031667676863487.html
END:VEVENT
END:VCALENDAR