BEGIN:VCALENDAR
VERSION:2.0
PRODID:EVENTFROG//EVENTGROUP//ICAL
BEGIN:VEVENT
UID:20260419T145827Z-7451384328087435719@eventfrog.ch
DTSTAMP:20260419T145827Z
DTSTART:20260523T120000Z
SUMMARY:Über die Grenze
DESCRIPTION:Fahrradtour am Alten Rhein mit Philipp Rusch.\n\nhttps://eventfrog.ch/de/p/diverses/ueber-die-grenze-7451384328087435719.html
LOCATION:Jüdisches Museum
GEO:47.364721;9.688902
URL:https://eventfrog.ch/de/p/diverses/ueber-die-grenze-7451384328087435719.html
END:VEVENT
END:VCALENDAR