BEGIN:VCALENDAR
VERSION:2.0
PRODID:EVENTFROG//EVENTGROUP//ICAL
BEGIN:VEVENT
UID:20260419T223434Z-7439441144533005843@eventfrog.ch
DTSTAMP:20260419T223434Z
DTSTART:20260422T180000Z
SUMMARY:Loechli Klaenge
DESCRIPTION:Appenzeller Musik mit Hackbrett, Handorgel, Klavier, Bass.\n\nhttps://eventfrog.ch/de/p/konzerte/loechli-klaenge-7439441144533005843.html
LOCATION:Hotel Hof Weissbad
GEO:47.309588;9.433127
URL:https://eventfrog.ch/de/p/konzerte/loechli-klaenge-7439441144533005843.html
END:VEVENT
END:VCALENDAR