BEGIN:VCALENDAR
VERSION:2.0
PRODID:EVENTFROG//EVENTGROUP//ICAL
BEGIN:VEVENT
UID:20260424T060817Z-7451392945918360318@eventfrog.ch
DTSTAMP:20260424T060817Z
DTSTART:20260527T130000Z
DTEND:20260527T133000Z
SUMMARY:Schweizer Vorlese Tag
DESCRIPTION:Schweizer Vorlese Tag\n\nhttps://eventfrog.ch/de/p/theater-buehne/schweizer-vorlese-tag-7451392945918360318.html
LOCATION:Bücherladen Amriswil
GEO:47.545491;9.300039
URL:https://eventfrog.ch/de/p/theater-buehne/schweizer-vorlese-tag-7451392945918360318.html
END:VEVENT
BEGIN:VEVENT
UID:20260424T060817Z-7451392946094521087@eventfrog.ch
DTSTAMP:20260424T060817Z
DTSTART:20260527T140000Z
DTEND:20260527T143000Z
SUMMARY:Schweizer Vorlese Tag
DESCRIPTION:Schweizer Vorlese Tag\n\nhttps://eventfrog.ch/de/p/theater-buehne/schweizer-vorlese-tag-7451392946094521087.html
LOCATION:Bücherladen Amriswil
GEO:47.545491;9.300039
URL:https://eventfrog.ch/de/p/theater-buehne/schweizer-vorlese-tag-7451392946094521087.html
END:VEVENT
END:VCALENDAR