BEGIN:VCALENDAR
VERSION:2.0
PRODID:EVENTFROG//EVENTGROUP//ICAL
BEGIN:VEVENT
UID:20260419T190418Z-7451568462231537648@eventfrog.ch
DTSTAMP:20260419T190418Z
DTSTART:20260420T123000Z
DTEND:20260420T133000Z
SUMMARY:Schnapp dir den Rollator und komm zum Rollatorsport
DESCRIPTION:Rollatorkurse zur Sturzprävention und Lebensqualitätssteigerung ohne Altersbegrenzung, montags 14:30 Uhr, dienstags 10:00 Uhr.\n\nhttps://eventfrog.ch/de/p/gesundheit-spiritualitaet/gesundheit-wohlbefinden/schnapp-dir-den-rollator-und-komm-zum-rollatorsport-7451568462231537648.html
LOCATION:Rollatorsport
GEO:51.541280;9.915803
URL:https://eventfrog.ch/de/p/gesundheit-spiritualitaet/gesundheit-wohlbefinden/schnapp-dir-den-rollator-und-komm-zum-rollatorsport-7451568462231537648.html
END:VEVENT
BEGIN:VEVENT
UID:20260419T190418Z-7451568640254590231@eventfrog.ch
DTSTAMP:20260419T190418Z
DTSTART:20260420T123000Z
DTEND:20260420T133000Z
SUMMARY:Schnapp dir den Rollator und komm zum Rollatorsport
DESCRIPTION:Rollatorkurse zur Sturzprävention und Lebensqualitätssteigerung ohne Altersbegrenzung, montags 14:30 Uhr, dienstags 10:00 Uhr.\n\nhttps://eventfrog.ch/de/p/gesundheit-spiritualitaet/gesundheit-wohlbefinden/schnapp-dir-den-rollator-und-komm-zum-rollatorsport-7451568640254590231.html
LOCATION:Rollatorsport
GEO:51.541280;9.915803
URL:https://eventfrog.ch/de/p/gesundheit-spiritualitaet/gesundheit-wohlbefinden/schnapp-dir-den-rollator-und-komm-zum-rollatorsport-7451568640254590231.html
END:VEVENT
BEGIN:VEVENT
UID:20260419T190418Z-7451568640497860490@eventfrog.ch
DTSTAMP:20260419T190418Z
DTSTART:20260421T123000Z
DTEND:20260421T133000Z
SUMMARY:Schnapp dir den Rollator und komm zum Rollatorsport
DESCRIPTION:Rollatorkurse zur Sturzprävention und Lebensqualitätssteigerung ohne Altersbegrenzung, montags 14:30 Uhr, dienstags 10:00 Uhr.\n\nhttps://eventfrog.ch/de/p/gesundheit-spiritualitaet/gesundheit-wohlbefinden/schnapp-dir-den-rollator-und-komm-zum-rollatorsport-7451568640497860490.html
LOCATION:Rollatorsport
GEO:51.541280;9.915803
URL:https://eventfrog.ch/de/p/gesundheit-spiritualitaet/gesundheit-wohlbefinden/schnapp-dir-den-rollator-und-komm-zum-rollatorsport-7451568640497860490.html
END:VEVENT
BEGIN:VEVENT
UID:20260419T190418Z-7451568640619495374@eventfrog.ch
DTSTAMP:20260419T190418Z
DTSTART:20260427T123000Z
DTEND:20260427T133000Z
SUMMARY:Schnapp dir den Rollator und komm zum Rollatorsport
DESCRIPTION:Rollatorkurse zur Sturzprävention und Lebensqualitätssteigerung ohne Altersbegrenzung, montags 14:30 Uhr, dienstags 10:00 Uhr.\n\nhttps://eventfrog.ch/de/p/gesundheit-spiritualitaet/gesundheit-wohlbefinden/schnapp-dir-den-rollator-und-komm-zum-rollatorsport-7451568640619495374.html
LOCATION:Rollatorsport
GEO:51.541280;9.915803
URL:https://eventfrog.ch/de/p/gesundheit-spiritualitaet/gesundheit-wohlbefinden/schnapp-dir-den-rollator-und-komm-zum-rollatorsport-7451568640619495374.html
END:VEVENT
BEGIN:VEVENT
UID:20260419T190418Z-7451568640757907432@eventfrog.ch
DTSTAMP:20260419T190418Z
DTSTART:20260428T123000Z
DTEND:20260428T133000Z
SUMMARY:Schnapp dir den Rollator und komm zum Rollatorsport
DESCRIPTION:Rollatorkurse zur Sturzprävention und Lebensqualitätssteigerung ohne Altersbegrenzung, montags 14:30 Uhr, dienstags 10:00 Uhr.\n\nhttps://eventfrog.ch/de/p/gesundheit-spiritualitaet/gesundheit-wohlbefinden/schnapp-dir-den-rollator-und-komm-zum-rollatorsport-7451568640757907432.html
LOCATION:Rollatorsport
GEO:51.541280;9.915803
URL:https://eventfrog.ch/de/p/gesundheit-spiritualitaet/gesundheit-wohlbefinden/schnapp-dir-den-rollator-und-komm-zum-rollatorsport-7451568640757907432.html
END:VEVENT
BEGIN:VEVENT
UID:20260419T190418Z-7451568640900513770@eventfrog.ch
DTSTAMP:20260419T190418Z
DTSTART:20260504T123000Z
DTEND:20260504T133000Z
SUMMARY:Schnapp dir den Rollator und komm zum Rollatorsport
DESCRIPTION:Rollatorkurse zur Sturzprävention und Lebensqualitätssteigerung ohne Altersbegrenzung, montags 14:30 Uhr, dienstags 10:00 Uhr.\n\nhttps://eventfrog.ch/de/p/gesundheit-spiritualitaet/gesundheit-wohlbefinden/schnapp-dir-den-rollator-und-komm-zum-rollatorsport-7451568640900513770.html
LOCATION:Rollatorsport
GEO:51.541280;9.915803
URL:https://eventfrog.ch/de/p/gesundheit-spiritualitaet/gesundheit-wohlbefinden/schnapp-dir-den-rollator-und-komm-zum-rollatorsport-7451568640900513770.html
END:VEVENT
BEGIN:VEVENT
UID:20260419T190418Z-7451568641051508717@eventfrog.ch
DTSTAMP:20260419T190418Z
DTSTART:20260505T123000Z
DTEND:20260505T133000Z
SUMMARY:Schnapp dir den Rollator und komm zum Rollatorsport
DESCRIPTION:Rollatorkurse zur Sturzprävention und Lebensqualitätssteigerung ohne Altersbegrenzung, montags 14:30 Uhr, dienstags 10:00 Uhr.\n\nhttps://eventfrog.ch/de/p/gesundheit-spiritualitaet/gesundheit-wohlbefinden/schnapp-dir-den-rollator-und-komm-zum-rollatorsport-7451568641051508717.html
LOCATION:Rollatorsport
GEO:51.541280;9.915803
URL:https://eventfrog.ch/de/p/gesundheit-spiritualitaet/gesundheit-wohlbefinden/schnapp-dir-den-rollator-und-komm-zum-rollatorsport-7451568641051508717.html
END:VEVENT
BEGIN:VEVENT
UID:20260419T190418Z-7451568641173143616@eventfrog.ch
DTSTAMP:20260419T190418Z
DTSTART:20260511T123000Z
DTEND:20260511T133000Z
SUMMARY:Schnapp dir den Rollator und komm zum Rollatorsport
DESCRIPTION:Rollatorkurse zur Sturzprävention und Lebensqualitätssteigerung ohne Altersbegrenzung, montags 14:30 Uhr, dienstags 10:00 Uhr.\n\nhttps://eventfrog.ch/de/p/gesundheit-spiritualitaet/gesundheit-wohlbefinden/schnapp-dir-den-rollator-und-komm-zum-rollatorsport-7451568641173143616.html
LOCATION:Rollatorsport
GEO:51.541280;9.915803
URL:https://eventfrog.ch/de/p/gesundheit-spiritualitaet/gesundheit-wohlbefinden/schnapp-dir-den-rollator-und-komm-zum-rollatorsport-7451568641173143616.html
END:VEVENT
BEGIN:VEVENT
UID:20260419T190418Z-7451568641294778435@eventfrog.ch
DTSTAMP:20260419T190418Z
DTSTART:20260512T123000Z
DTEND:20260512T133000Z
SUMMARY:Schnapp dir den Rollator und komm zum Rollatorsport
DESCRIPTION:Rollatorkurse zur Sturzprävention und Lebensqualitätssteigerung ohne Altersbegrenzung, montags 14:30 Uhr, dienstags 10:00 Uhr.\n\nhttps://eventfrog.ch/de/p/gesundheit-spiritualitaet/gesundheit-wohlbefinden/schnapp-dir-den-rollator-und-komm-zum-rollatorsport-7451568641294778435.html
LOCATION:Rollatorsport
GEO:51.541280;9.915803
URL:https://eventfrog.ch/de/p/gesundheit-spiritualitaet/gesundheit-wohlbefinden/schnapp-dir-den-rollator-und-komm-zum-rollatorsport-7451568641294778435.html
END:VEVENT
BEGIN:VEVENT
UID:20260419T190418Z-7451568641433190470@eventfrog.ch
DTSTAMP:20260419T190418Z
DTSTART:20260518T123000Z
DTEND:20260518T133000Z
SUMMARY:Schnapp dir den Rollator und komm zum Rollatorsport
DESCRIPTION:Rollatorkurse zur Sturzprävention und Lebensqualitätssteigerung ohne Altersbegrenzung, montags 14:30 Uhr, dienstags 10:00 Uhr.\n\nhttps://eventfrog.ch/de/p/gesundheit-spiritualitaet/gesundheit-wohlbefinden/schnapp-dir-den-rollator-und-komm-zum-rollatorsport-7451568641433190470.html
LOCATION:Rollatorsport
GEO:51.541280;9.915803
URL:https://eventfrog.ch/de/p/gesundheit-spiritualitaet/gesundheit-wohlbefinden/schnapp-dir-den-rollator-und-komm-zum-rollatorsport-7451568641433190470.html
END:VEVENT
BEGIN:VEVENT
UID:20260419T190418Z-7451568641563213896@eventfrog.ch
DTSTAMP:20260419T190418Z
DTSTART:20260519T123000Z
DTEND:20260519T133000Z
SUMMARY:Schnapp dir den Rollator und komm zum Rollatorsport
DESCRIPTION:Rollatorkurse zur Sturzprävention und Lebensqualitätssteigerung ohne Altersbegrenzung, montags 14:30 Uhr, dienstags 10:00 Uhr.\n\nhttps://eventfrog.ch/de/p/gesundheit-spiritualitaet/gesundheit-wohlbefinden/schnapp-dir-den-rollator-und-komm-zum-rollatorsport-7451568641563213896.html
LOCATION:Rollatorsport
GEO:51.541280;9.915803
URL:https://eventfrog.ch/de/p/gesundheit-spiritualitaet/gesundheit-wohlbefinden/schnapp-dir-den-rollator-und-komm-zum-rollatorsport-7451568641563213896.html
END:VEVENT
END:VCALENDAR