BEGIN:VCALENDAR
VERSION:2.0
PRODID:EVENTFROG//EVENTGROUP//ICAL
BEGIN:VEVENT
UID:20260419T155308Z-7451575896350134606@eventfrog.ch
DTSTAMP:20260419T155308Z
DTSTART:20260423T120000Z
DTEND:20260423T140000Z
SUMMARY:"Darf ich bitten" Tanznachmittag für alle
DESCRIPTION:Alle sind willkommen zum ungezwungenen Tanzen, Musikhören und Kaffeegenuss mit fachkundiger Unterstützung.\n\nhttps://eventfrog.ch/de/p/partys/ball-gala/darf-ich-bitten-tanznachmittag-fuer-alle-7451575896350134606.html
LOCATION:Freizeitanlage Kanzleistrasse
GEO:47.484628;8.763770
URL:https://eventfrog.ch/de/p/partys/ball-gala/darf-ich-bitten-tanznachmittag-fuer-alle-7451575896350134606.html
END:VEVENT
BEGIN:VEVENT
UID:20260419T155308Z-7451576064260717718@eventfrog.ch
DTSTAMP:20260419T155308Z
DTSTART:20260618T120000Z
DTEND:20260618T140000Z
SUMMARY:"Darf ich bitten" Tanznachmittag für alle
DESCRIPTION:Alle sind willkommen zum ungezwungenen Tanzen, Musikhören und Kaffeegenuss mit fachkundiger Unterstützung.\n\nhttps://eventfrog.ch/de/p/partys/ball-gala/darf-ich-bitten-tanznachmittag-fuer-alle-7451576064260717718.html
LOCATION:Freizeitanlage Kanzleistrasse
GEO:47.484628;8.763770
URL:https://eventfrog.ch/de/p/partys/ball-gala/darf-ich-bitten-tanznachmittag-fuer-alle-7451576064260717718.html
END:VEVENT
BEGIN:VEVENT
UID:20260419T155308Z-7451576064478822153@eventfrog.ch
DTSTAMP:20260419T155308Z
DTSTART:20260917T120000Z
DTEND:20260917T140000Z
SUMMARY:"Darf ich bitten" Tanznachmittag für alle
DESCRIPTION:Alle sind willkommen zum ungezwungenen Tanzen, Musikhören und Kaffeegenuss mit fachkundiger Unterstützung.\n\nhttps://eventfrog.ch/de/p/partys/ball-gala/darf-ich-bitten-tanznachmittag-fuer-alle-7451576064478822153.html
LOCATION:Freizeitanlage Kanzleistrasse
GEO:47.484628;8.763770
URL:https://eventfrog.ch/de/p/partys/ball-gala/darf-ich-bitten-tanznachmittag-fuer-alle-7451576064478822153.html
END:VEVENT
BEGIN:VEVENT
UID:20260419T155308Z-7451576064621428526@eventfrog.ch
DTSTAMP:20260419T155308Z
DTSTART:20261112T130000Z
DTEND:20261112T150000Z
SUMMARY:"Darf ich bitten" Tanznachmittag für alle
DESCRIPTION:Alle sind willkommen zum ungezwungenen Tanzen, Musikhören und Kaffeegenuss mit fachkundiger Unterstützung.\n\nhttps://eventfrog.ch/de/p/partys/ball-gala/darf-ich-bitten-tanznachmittag-fuer-alle-7451576064621428526.html
LOCATION:Freizeitanlage Kanzleistrasse
GEO:47.484628;8.763770
URL:https://eventfrog.ch/de/p/partys/ball-gala/darf-ich-bitten-tanznachmittag-fuer-alle-7451576064621428526.html
END:VEVENT
END:VCALENDAR