BEGIN:VCALENDAR
VERSION:2.0
PRODID:EVENTFROG//EVENTGROUP//ICAL
BEGIN:VEVENT
UID:20260425T222748Z-7432193704306163795@eventfrog.ch
DTSTAMP:20260425T222748Z
DTSTART:20260511T160000Z
SUMMARY:Feuersturm
DESCRIPTION:Feuersturm\n\nhttps://eventfrog.ch/de/p/theater-buehne/feuersturm-7432193704306163795.html
LOCATION:Bistro FigurenTheater St. Gallen
GEO:47.424889;9.381883
URL:https://eventfrog.ch/de/p/theater-buehne/feuersturm-7432193704306163795.html
END:VEVENT
BEGIN:VEVENT
UID:20260425T222748Z-7432193704473935956@eventfrog.ch
DTSTAMP:20260425T222748Z
DTSTART:20260513T080000Z
SUMMARY:Feuersturm
DESCRIPTION:Feuersturm\n\nhttps://eventfrog.ch/de/p/theater-buehne/feuersturm-7432193704473935956.html
LOCATION:Bistro FigurenTheater St. Gallen
GEO:47.424889;9.381883
URL:https://eventfrog.ch/de/p/theater-buehne/feuersturm-7432193704473935956.html
END:VEVENT
END:VCALENDAR