BEGIN:VCALENDAR
VERSION:2.0
PRODID:EVENTFROG//EVENTGROUP//ICAL
BEGIN:VEVENT
UID:20260425T164032Z-7403565014282445493@eventfrog.ch
DTSTAMP:20260425T164032Z
DTSTART:20260426T140000Z
DTEND:20260426T144500Z
SUMMARY:Was macht das Wetter
DESCRIPTION:Eine spielerische und sehr visuelle Show.\n\nhttps://eventfrog.ch/de/p/theater-buehne/was-macht-das-wetter-7403565014282445493.html
LOCATION:TAK Theater Liechtenstein
GEO:47.167627;9.511821
URL:https://eventfrog.ch/de/p/theater-buehne/was-macht-das-wetter-7403565014282445493.html
END:VEVENT
BEGIN:VEVENT
UID:20260425T164032Z-7403565014446023350@eventfrog.ch
DTSTAMP:20260425T164032Z
DTSTART:20260427T080000Z
DTEND:20260427T084500Z
SUMMARY:Was macht das Wetter
DESCRIPTION:Eine spielerische und sehr visuelle Show.\n\nhttps://eventfrog.ch/de/p/theater-buehne/was-macht-das-wetter-7403565014446023350.html
LOCATION:TAK Theater Liechtenstein
GEO:47.167627;9.511821
URL:https://eventfrog.ch/de/p/theater-buehne/was-macht-das-wetter-7403565014446023350.html
END:VEVENT
BEGIN:VEVENT
UID:20260425T164032Z-7403565014647349943@eventfrog.ch
DTSTAMP:20260425T164032Z
DTSTART:20260427T120000Z
DTEND:20260427T124500Z
SUMMARY:Was macht das Wetter
DESCRIPTION:Eine spielerische und sehr visuelle Show.\n\nhttps://eventfrog.ch/de/p/theater-buehne/was-macht-das-wetter-7403565014647349943.html
LOCATION:TAK Theater Liechtenstein
GEO:47.167627;9.511821
URL:https://eventfrog.ch/de/p/theater-buehne/was-macht-das-wetter-7403565014647349943.html
END:VEVENT
END:VCALENDAR