BEGIN:VCALENDAR
VERSION:2.0
PRODID:EVENTFROG//EVENTGROUP//ICAL
BEGIN:VEVENT
UID:20260424T063600Z-7439082003310339315@eventfrog.ch
DTSTAMP:20260424T063600Z
DTSTART:20260510T090000Z
DTEND:20260510T093000Z
SUMMARY:Sonntagsbrunch mit Mathias Landtwing Quartett
DESCRIPTION:Frisch, frech & eigenständig!\n\nhttps://eventfrog.ch/de/p/konzerte/sonntagsbrunch-mit-mathias-landtwing-quartett-7439082003310339315.html
LOCATION:Dimensione
GEO:47.499441;8.732479
URL:https://eventfrog.ch/de/p/konzerte/sonntagsbrunch-mit-mathias-landtwing-quartett-7439082003310339315.html
END:VEVENT
BEGIN:VEVENT
UID:20260424T063600Z-7439082003478111477@eventfrog.ch
DTSTAMP:20260424T063600Z
DTSTART:20260510T100000Z
DTEND:20260510T103000Z
SUMMARY:Sonntagsbrunch mit Mathias Landtwing Quartett
DESCRIPTION:Frisch, frech & eigenständig!\n\nhttps://eventfrog.ch/de/p/konzerte/sonntagsbrunch-mit-mathias-landtwing-quartett-7439082003478111477.html
LOCATION:Dimensione
GEO:47.499441;8.732479
URL:https://eventfrog.ch/de/p/konzerte/sonntagsbrunch-mit-mathias-landtwing-quartett-7439082003478111477.html
END:VEVENT
END:VCALENDAR