BEGIN:VCALENDAR
VERSION:2.0
PRODID:EVENTFROG//EVENTGROUP//ICAL
BEGIN:VEVENT
UID:20260426T035139Z-7444520130514524043@eventfrog.ch
DTSTAMP:20260426T035139Z
DTSTART:20260510T110000Z
SUMMARY:Öffentliche Führung: Delcy Morelos
DESCRIPTION:Kurzführung durch die Ausstellung Delcy Morelos.\n\nhttps://eventfrog.ch/de/p/kunst-ausstellungen/oeffentliche-fuehrung-delcy-morelos-7444520130514524043.html
LOCATION:Kinok – Cinema in der Lokremise
GEO:47.421287;9.366104
URL:https://eventfrog.ch/de/p/kunst-ausstellungen/oeffentliche-fuehrung-delcy-morelos-7444520130514524043.html
END:VEVENT
BEGIN:VEVENT
UID:20260426T035139Z-7444520132666202007@eventfrog.ch
DTSTAMP:20260426T035139Z
DTSTART:20260601T170000Z
SUMMARY:Öffentliche Führung: Delcy Morelos
DESCRIPTION:Kurzführung durch die Ausstellung Delcy Morelos.\n\nhttps://eventfrog.ch/de/p/kunst-ausstellungen/oeffentliche-fuehrung-delcy-morelos-7444520132666202007.html
LOCATION:Kinok – Cinema in der Lokremise
GEO:47.421287;9.366104
URL:https://eventfrog.ch/de/p/kunst-ausstellungen/oeffentliche-fuehrung-delcy-morelos-7444520132666202007.html
END:VEVENT
BEGIN:VEVENT
UID:20260426T035139Z-7444520134817879976@eventfrog.ch
DTSTAMP:20260426T035139Z
DTSTART:20260712T130000Z
SUMMARY:Öffentliche Führung: Delcy Morelos
DESCRIPTION:Kurzführung durch die Ausstellung Delcy Morelos.\n\nhttps://eventfrog.ch/de/p/kunst-ausstellungen/oeffentliche-fuehrung-delcy-morelos-7444520134817879976.html
LOCATION:Kinok – Cinema in der Lokremise
GEO:47.421287;9.366104
URL:https://eventfrog.ch/de/p/kunst-ausstellungen/oeffentliche-fuehrung-delcy-morelos-7444520134817879976.html
END:VEVENT
END:VCALENDAR