BEGIN:VCALENDAR
VERSION:2.0
PRODID:EVENTFROG//EVENTGROUP//ICAL
BEGIN:VEVENT
UID:20260424T072124Z-7451754015723915336@eventfrog.ch
DTSTAMP:20260424T072124Z
DTSTART:20260507T150000Z
SUMMARY:Südbar
DESCRIPTION:Südbar\n\nhttps://eventfrog.ch/de/p/partys/suedbar-7451754015723915336.html
LOCATION:Süd Bar
GEO:47.425607;9.374604
URL:https://eventfrog.ch/de/p/partys/suedbar-7451754015723915336.html
END:VEVENT
BEGIN:VEVENT
UID:20260424T072124Z-7451754015908464713@eventfrog.ch
DTSTAMP:20260424T072124Z
DTSTART:20260527T160000Z
SUMMARY:Südbar
DESCRIPTION:Südbar\n\nhttps://eventfrog.ch/de/p/partys/suedbar-7451754015908464713.html
LOCATION:Süd Bar
GEO:47.425607;9.374604
URL:https://eventfrog.ch/de/p/partys/suedbar-7451754015908464713.html
END:VEVENT
BEGIN:VEVENT
UID:20260424T072124Z-7451754016101402699@eventfrog.ch
DTSTAMP:20260424T072124Z
DTSTART:20260528T150000Z
SUMMARY:Südbar
DESCRIPTION:Südbar\n\nhttps://eventfrog.ch/de/p/partys/suedbar-7451754016101402699.html
LOCATION:Süd Bar
GEO:47.425607;9.374604
URL:https://eventfrog.ch/de/p/partys/suedbar-7451754016101402699.html
END:VEVENT
BEGIN:VEVENT
UID:20260424T072124Z-7451754016285952076@eventfrog.ch
DTSTAMP:20260424T072124Z
DTSTART:20260528T150000Z
SUMMARY:Südbar
DESCRIPTION:Südbar\n\nhttps://eventfrog.ch/de/p/partys/suedbar-7451754016285952076.html
LOCATION:Süd Bar
GEO:47.425607;9.374604
URL:https://eventfrog.ch/de/p/partys/suedbar-7451754016285952076.html
END:VEVENT
END:VCALENDAR