BEGIN:VCALENDAR
VERSION:2.0
PRODID:EVENTFROG//EVENTGROUP//ICAL
BEGIN:VEVENT
UID:20260424T063705Z-7452115919436790773@eventfrog.ch
DTSTAMP:20260424T063705Z
DTSTART:20260504T071500Z
SUMMARY:Reim und Spiel
DESCRIPTION:Mit Leseanimatorin Marianne Wäspe.\n\nhttps://eventfrog.ch/de/p/diverses/reim-und-spiel-7452115919436790773.html
LOCATION:Stadtbibliothek
GEO:47.415188;9.252704
URL:https://eventfrog.ch/de/p/diverses/reim-und-spiel-7452115919436790773.html
END:VEVENT
BEGIN:VEVENT
UID:20260424T063705Z-7452115919608757238@eventfrog.ch
DTSTAMP:20260424T063705Z
DTSTART:20260504T081500Z
SUMMARY:Reim und Spiel
DESCRIPTION:Mit Leseanimatorin Marianne Wäspe.\n\nhttps://eventfrog.ch/de/p/diverses/reim-und-spiel-7452115919608757238.html
LOCATION:Stadtbibliothek
GEO:47.415188;9.252704
URL:https://eventfrog.ch/de/p/diverses/reim-und-spiel-7452115919608757238.html
END:VEVENT
END:VCALENDAR