BEGIN:VCALENDAR
VERSION:2.0
PRODID:EVENTFROG//EVENTGROUP//ICAL
BEGIN:VEVENT
UID:20260424T063638Z-7417856823540079129@eventfrog.ch
DTSTAMP:20260424T063638Z
DTSTART:20260518T180000Z
SUMMARY:POWERPOINT KARAOKE am Mäntig
DESCRIPTION:Am 18. Mai 2025 präsentieren Fabian Rütsche und Benjamin Heutschi PowerPoint-Karaoke erstmals im Theater Stuhlfabrik Herisau.\n\nhttps://eventfrog.ch/de/p/theater-buehne/buehnenveranstaltung/powerpoint-karaoke-am-maentig-7417856823540079129.html
LOCATION:Stuhlfabrik Herisau
GEO:47.387798;9.284961
URL:https://eventfrog.ch/de/p/theater-buehne/buehnenveranstaltung/powerpoint-karaoke-am-maentig-7417856823540079129.html
END:VEVENT
BEGIN:VEVENT
UID:20260424T063638Z-7452238671367924065@eventfrog.ch
DTSTAMP:20260424T063638Z
DTSTART:20260930T180000Z
DTEND:20260930T200000Z
SUMMARY:POWERPOINT KARAOKE
DESCRIPTION:Fabian Rütsche und Benjamin Heutschi improvisieren PowerPoint-Karaoke im Theater Stuhlfabrik Herisau, Türöffnung 19.00 Uhr.\n\nhttps://eventfrog.ch/de/p/theater-buehne/buehnenveranstaltung/powerpoint-karaoke-7452238671367924065.html
LOCATION:Stuhlfabrik Herisau
GEO:47.387798;9.284961
URL:https://eventfrog.ch/de/p/theater-buehne/buehnenveranstaltung/powerpoint-karaoke-7452238671367924065.html
END:VEVENT
BEGIN:VEVENT
UID:20260424T063638Z-7452239364837386938@eventfrog.ch
DTSTAMP:20260424T063638Z
DTSTART:20261125T190000Z
DTEND:20261125T210000Z
SUMMARY:POWERPOINT KARAOKE
DESCRIPTION:Fabian Rütsche und Benjamin Heutschi improvisieren PowerPoint-Karaoke im Theater Stuhlfabrik Herisau, Türöffnung 19.00 Uhr.\n\nhttps://eventfrog.ch/de/p/theater-buehne/buehnenveranstaltung/powerpoint-karaoke-7452239364837386938.html
LOCATION:Stuhlfabrik Herisau
GEO:47.387798;9.284961
URL:https://eventfrog.ch/de/p/theater-buehne/buehnenveranstaltung/powerpoint-karaoke-7452239364837386938.html
END:VEVENT
END:VCALENDAR